{
 "currentVersion": 10.91,
 "serviceDescription": "UAS/Hanlin_Allied_Olin",
 "name": "UAS/Hanlin_Allied_Olin",
 "description": "",
 "extent": {
  "xmin": 1600901.5173465048,
  "ymin": 509905.71793245734,
  "xmax": 1606220.2920791525,
  "ymax": 518871.8645482653,
  "spatialReference": {
   "wkt": "PROJCS[\"NAD_1983_2011_West_Virginia_North_ftUS\",GEOGCS[\"GCS_NAD83_2011\",DATUM[\"D_NAD_1983_2011\",SPHEROID[\"GRS_1980\",6378137.0,298.257222101]],PRIMEM[\"Greenwich\",0.0],UNIT[\"Degree\",0.0174532925199433]],PROJECTION[\"Lambert_Conformal_Conic\"],PARAMETER[\"false_easting\",1968500.0],PARAMETER[\"false_northing\",0.0],PARAMETER[\"central_meridian\",-79.5],PARAMETER[\"standard_parallel_1\",39.0],PARAMETER[\"standard_parallel_2\",40.25],PARAMETER[\"latitude_of_origin\",38.5],UNIT[\"Foot_US\",0.3048006096012192]]"
  }
 },
 "initialExtent": {
  "xmin": 1600901.5173465048,
  "ymin": 509905.71793245734,
  "xmax": 1606220.2920791525,
  "ymax": 518871.8645482653,
  "spatialReference": {
   "wkt": "PROJCS[\"NAD_1983_2011_West_Virginia_North_ftUS\",GEOGCS[\"GCS_NAD83_2011\",DATUM[\"D_NAD_1983_2011\",SPHEROID[\"GRS_1980\",6378137.0,298.257222101]],PRIMEM[\"Greenwich\",0.0],UNIT[\"Degree\",0.0174532925199433]],PROJECTION[\"Lambert_Conformal_Conic\"],PARAMETER[\"false_easting\",1968500.0],PARAMETER[\"false_northing\",0.0],PARAMETER[\"central_meridian\",-79.5],PARAMETER[\"standard_parallel_1\",39.0],PARAMETER[\"standard_parallel_2\",40.25],PARAMETER[\"latitude_of_origin\",38.5],UNIT[\"Foot_US\",0.3048006096012192]]"
  }
 },
 "fullExtent": {
  "xmin": 1600901.5173465048,
  "ymin": 509905.71793245734,
  "xmax": 1606220.2920791525,
  "ymax": 518871.8645482653,
  "spatialReference": {
   "wkt": "PROJCS[\"NAD_1983_2011_West_Virginia_North_ftUS\",GEOGCS[\"GCS_NAD83_2011\",DATUM[\"D_NAD_1983_2011\",SPHEROID[\"GRS_1980\",6378137.0,298.257222101]],PRIMEM[\"Greenwich\",0.0],UNIT[\"Degree\",0.0174532925199433]],PROJECTION[\"Lambert_Conformal_Conic\"],PARAMETER[\"false_easting\",1968500.0],PARAMETER[\"false_northing\",0.0],PARAMETER[\"central_meridian\",-79.5],PARAMETER[\"standard_parallel_1\",39.0],PARAMETER[\"standard_parallel_2\",40.25],PARAMETER[\"latitude_of_origin\",38.5],UNIT[\"Foot_US\",0.3048006096012192]]"
  }
 },
 "hasMultidimensions": false,
 "pixelSizeX": 0.11884733386918635,
 "pixelSizeY": 0.11884820942986608,
 "datasetFormat": "TIFF",
 "uncompressedSize": 13505023304,
 "blockWidth": 128,
 "blockHeight": 128,
 "compressionType": "LZW",
 "bandNames": [
  "Band_1",
  "Band_2",
  "Band_3",
  "Band_4"
 ],
 "allowCopy": true,
 "allowAnalysis": true,
 "bandCount": 4,
 "noDataValue": 256,
 "noDataValues": [
  256,
  256,
  256,
  256
 ],
 "pixelType": "U8",
 "minPixelSize": 0,
 "maxPixelSize": 0,
 "copyrightText": "",
 "serviceDataType": "esriImageServiceDataTypeGeneric",
 "serviceSourceType": "esriImageServiceSourceTypeDataset",
 "minValues": [
  0,
  0,
  0,
  0
 ],
 "maxValues": [
  255,
  255,
  255,
  255
 ],
 "meanValues": [
  54.539208828745,
  67.708005123075,
  49.344381003937,
  139.25465253854
 ],
 "stdvValues": [
  64.090341373607,
  71.620844620796,
  54.831415856287,
  126.95699330285
 ],
 "objectIdField": "",
 "fields": [],
 "capabilities": "Image,Metadata,Mensuration",
 "defaultMosaicMethod": "Center",
 "allowedMosaicMethods": "",
 "sortField": "",
 "sortValue": null,
 "sortAscending": true,
 "mosaicOperator": "First",
 "defaultCompressionQuality": 75,
 "defaultResamplingMethod": "Bilinear",
 "maxImageHeight": 4100,
 "maxImageWidth": 15000,
 "allowRasterFunction": true,
 "rasterFunctionInfos": [
  {
   "name": "None",
   "description": "",
   "help": ""
  }
 ],
 "rasterTypeInfos": [
  {
   "name": "Raster Dataset",
   "description": "Supports all ArcGIS Raster Datasets",
   "help": ""
  }
 ],
 "mensurationCapabilities": "Basic",
 "hasHistograms": true,
 "hasColormap": false,
 "hasRasterAttributeTable": false,
 "minScale": 0,
 "maxScale": 0,
 "exportTilesAllowed": false,
 "supportsStatistics": false,
 "supportsAdvancedQueries": false,
 "editFieldsInfo": null,
 "ownershipBasedAccessControlForRasters": null,
 "allowComputeTiePoints": false,
 "useStandardizedQueries": true,
 "advancedQueryCapabilities": {
  "useStandardizedQueries": true,
  "supportsStatistics": false,
  "supportsOrderBy": false,
  "supportsDistinct": false,
  "supportsPagination": false
 },
 "spatialReference": {
  "wkt": "PROJCS[\"NAD_1983_2011_West_Virginia_North_ftUS\",GEOGCS[\"GCS_NAD83_2011\",DATUM[\"D_NAD_1983_2011\",SPHEROID[\"GRS_1980\",6378137.0,298.257222101]],PRIMEM[\"Greenwich\",0.0],UNIT[\"Degree\",0.0174532925199433]],PROJECTION[\"Lambert_Conformal_Conic\"],PARAMETER[\"false_easting\",1968500.0],PARAMETER[\"false_northing\",0.0],PARAMETER[\"central_meridian\",-79.5],PARAMETER[\"standard_parallel_1\",39.0],PARAMETER[\"standard_parallel_2\",40.25],PARAMETER[\"latitude_of_origin\",38.5],UNIT[\"Foot_US\",0.3048006096012192]]"
 }
}
