View In:
ArcGIS JavaScript
ArcGIS Online Map Viewer
ArcGIS Earth
ArcMap
View Footprint In:
ArcGIS Online Map Viewer
Service Description: app_services/jefferson_berkeley_1m_dem_clip_hillshade_15deg_wm_tif
Name: app_services/jefferson_berkeley_1m_dem_clip_hillshade_15deg_wm_tif
Description:
Single Fused Map Cache: false
Extent:
XMin: -8709623.673269521
YMin: 4740105.616101335
XMax: -8649982.166518122
YMax: 4811910.022262837
Spatial Reference: 102100
(3857)
LatestVCSWkid(0)
Initial Extent:
XMin: -8709623.673269521
YMin: 4740105.616101335
XMax: -8649982.166518122
YMax: 4811910.022262837
Spatial Reference: 102100
(3857)
LatestVCSWkid(0)
Full Extent:
XMin: -8709623.673269521
YMin: 4740105.616101335
XMax: -8649982.166518122
YMax: 4811910.022262837
Spatial Reference: 102100
(3857)
LatestVCSWkid(0)
Pixel Size X: 0.9999917298447317
Pixel Size Y: 0.9999917298447463
Band Count: 1
Pixel Type: U8
RasterFunction Infos: {"rasterFunctionInfos": [{
"name": "None",
"description": "",
"help": ""
}]}
Mensuration Capabilities: Basic
Has Histograms: true
Has Colormap: false
Has Multi Dimensions : false
Rendering Rule:
Min Scale: 0
Max Scale: 0
Copyright Text:
Service Data Type: esriImageServiceDataTypeThematic
Min Values: 0
Max Values: 254
Mean Values: 65.280269851286
Standard Deviation Values: 23.662999158373
Object ID Field:
Fields:
None
Default Mosaic Method: Center
Allowed Mosaic Methods:
SortField:
SortValue: null
Mosaic Operator: First
Default Compression Quality: 75
Default Resampling Method: Bilinear
Max Record Count: null
Max Image Height: 4100
Max Image Width: 15000
Max Download Image Count: null
Max Mosaic Image Count: null
Allow Raster Function: true
Allow Copy: true
Allow Analysis: true
Allow Compute TiePoints: false
Supports Statistics: false
Supports Advanced Queries: false
Use StandardizedQueries: true
Raster Type Infos:
Name: Raster Dataset
Description: Supports all ArcGIS Raster Datasets
Help:
Has Raster Attribute Table: true
Edit Fields Info: null
Ownership Based AccessControl For Rasters: null
Child Resources:
Info
Raster Attribute Table
Histograms
Statistics
Key Properties
Legend
Raster Function Infos
Supported Operations:
Export Image
Identify
Measure
Compute Histograms
Compute Statistics Histograms
Get Samples
Compute Class Statistics
Query Boundary
Compute Pixel Location
Compute Angles
Validate
Project