View In:
ArcGIS JavaScript
ArcGIS Online Map Viewer
ArcGIS Earth
ArcMap
View Footprint In:
ArcGIS Online Map Viewer
Service Description: UAS/Hanlin_Allied_Olin
Name: UAS/Hanlin_Allied_Olin
Description:
Single Fused Map Cache: false
Extent:
XMin: 1600901.5173465048
YMin: 509905.71793245734
XMax: 1606220.2920791525
YMax: 518871.8645482653
Spatial Reference: 0
(0)
LatestVCSWkid(0)
Initial Extent:
XMin: 1600901.5173465048
YMin: 509905.71793245734
XMax: 1606220.2920791525
YMax: 518871.8645482653
Spatial Reference: 0
(0)
LatestVCSWkid(0)
Full Extent:
XMin: 1600901.5173465048
YMin: 509905.71793245734
XMax: 1606220.2920791525
YMax: 518871.8645482653
Spatial Reference: 0
(0)
LatestVCSWkid(0)
Pixel Size X: 0.11884733386918635
Pixel Size Y: 0.11884820942986608
Band Count: 4
Pixel Type: U8
RasterFunction Infos: {"rasterFunctionInfos": [{
"name": "None",
"description": "",
"help": ""
}]}
Mensuration Capabilities: Basic
Has Histograms: true
Has Colormap: false
Has Multi Dimensions : false
Rendering Rule:
Min Scale: 0
Max Scale: 0
Copyright Text:
Service Data Type: esriImageServiceDataTypeGeneric
Min Values: 0, 0, 0, 0
Max Values: 255, 255, 255, 255
Mean Values: 54.539208828745, 67.708005123075, 49.344381003937, 139.25465253854
Standard Deviation Values: 64.090341373607, 71.620844620796, 54.831415856287, 126.95699330285
Object ID Field:
Fields:
None
Default Mosaic Method: Center
Allowed Mosaic Methods:
SortField:
SortValue: null
Mosaic Operator: First
Default Compression Quality: 75
Default Resampling Method: Bilinear
Max Record Count: null
Max Image Height: 4100
Max Image Width: 15000
Max Download Image Count: null
Max Mosaic Image Count: null
Allow Raster Function: true
Allow Copy: true
Allow Analysis: true
Allow Compute TiePoints: false
Supports Statistics: false
Supports Advanced Queries: false
Use StandardizedQueries: true
Raster Type Infos:
Name: Raster Dataset
Description: Supports all ArcGIS Raster Datasets
Help:
Has Raster Attribute Table: false
Edit Fields Info: null
Ownership Based AccessControl For Rasters: null
Child Resources:
Info
Histograms
Statistics
Key Properties
Legend
Raster Function Infos
Supported Operations:
Export Image
Identify
Measure
Compute Histograms
Compute Statistics Histograms
Get Samples
Compute Class Statistics
Query Boundary
Compute Pixel Location
Compute Angles
Validate
Project